BEGIN:VCALENDAR
VERSION:2.0
PRODID:-//Magic Workshops - ECPv6.15.20//NONSGML v1.0//EN
CALSCALE:GREGORIAN
METHOD:PUBLISH
X-WR-CALNAME:Magic Workshops
X-ORIGINAL-URL:https://magic-workshops.com
X-WR-CALDESC:Events for Magic Workshops
REFRESH-INTERVAL;VALUE=DURATION:PT1H
X-Robots-Tag:noindex
X-PUBLISHED-TTL:PT1H
BEGIN:VTIMEZONE
TZID:Europe/Stockholm
BEGIN:DAYLIGHT
TZOFFSETFROM:+0100
TZOFFSETTO:+0200
TZNAME:CEST
DTSTART:20210328T010000
END:DAYLIGHT
BEGIN:STANDARD
TZOFFSETFROM:+0200
TZOFFSETTO:+0100
TZNAME:CET
DTSTART:20211031T010000
END:STANDARD
BEGIN:DAYLIGHT
TZOFFSETFROM:+0100
TZOFFSETTO:+0200
TZNAME:CEST
DTSTART:20220327T010000
END:DAYLIGHT
BEGIN:STANDARD
TZOFFSETFROM:+0200
TZOFFSETTO:+0100
TZNAME:CET
DTSTART:20221030T010000
END:STANDARD
BEGIN:DAYLIGHT
TZOFFSETFROM:+0100
TZOFFSETTO:+0200
TZNAME:CEST
DTSTART:20230326T010000
END:DAYLIGHT
BEGIN:STANDARD
TZOFFSETFROM:+0200
TZOFFSETTO:+0100
TZNAME:CET
DTSTART:20231029T010000
END:STANDARD
END:VTIMEZONE
BEGIN:VEVENT
DTSTART;TZID=Europe/Stockholm:20220718T100000
DTEND;TZID=Europe/Stockholm:20220722T150000
DTSTAMP:20260422T044521
CREATED:20220209T161109Z
LAST-MODIFIED:20220427T172458Z
UID:8698-1658138400-1658502000@magic-workshops.com
SUMMARY:Magisk Scenkonst 2022
DESCRIPTION:A Workshop in Magie Nouvelle\nTogether the participants will be exploring the Magie Nouvelle movement in a five day workshop at Fridhems folkhögskola in Svalöv\, Sweden. It will be a unique event and valuable for you if you are a performing magician or a cirkus/performance artist using pieces of magic or principles of magic in your act. Some basic magic knowledge will of course be helpful\, but most important will be your passion and willingness to learn. \nThe teaching itself is free of charge for the course participant (it is financed through government grants). What you pay for is board and lodging. All meals have vegetarian alternatives. \nTopics covered in the workshop\nFace\, Clown\, Mind – Camouflage\, Black-Art\, Ligthing\, Mirrors\nBody\, Mime\, Mask – Illusion techniques\, Boxes\, Illusion devices\nPuppetry\, Object Manipulation\, Dolls – Threads\, Levitations\, Animations.\nBuilding a show\, rehearsal\, performance\nReflection\, Learning\, Furher learning goals\, evaluations \nRecurring themes will be: How can your performance benefit with knowledge from the other art fields present in the room? How can we use magic to further boost the audience experience? How do we integrate principles we use in your own performance.  How can you use the topics covered when you innovate new effects ? \nThe workshop will be a massive Laboratory in cutting-edge Magic and Performing Arts\, where the participants input together with the instructors input will create a powerful learning opportunity. We will create new instant effects and stage material that we will use to stage a public show for the final evening of the course.\nWe will talk a lot\, perform a lot\, try out new things and new strategies\, hopefully make many mistakes\, and absolutely have great fun! \nInstructors\n\nYou will meet prize-winning and internationally acclaimed Swedish magician Axel Adlercreutz\, and well experienced learning coach Peter Rosengren from Malmö Magic Mafia\, who both will guide you through an intense week-long learning session grounded in Axel Adlercreutz and Peter Rosengrens own stage and performance practices. \nLanguage\nIf the workshop get international participants\, the lessons will be given in English. Otherwise in Swedish. \nAdditionally\nThe participants will have the opportunity to get personal feedback on effects they are working on during evenings.  \nGuidelines in general\nBe sure to wear comfortable clothes since some of the training is quite physical.\nSummer can be hot\, so a water bottle might be handy.\nBring a pen and a notepad – you will learn things that you want to write down.\nIf you want to film or photograph the work you will be doing yourself\, bring a device for that with enough memory. \nPractical information\nThe school have posted some practical info in Swedish. The same page via Google Translate. \nThere’s four price alternatives\, based on whether you want to share room with a friend\, have a single room\, live on the actual school grounds\, or live on 3-4 minutes walking distance from the school.\nThe price range is from 5200 SEK (about $5200 USD or 5200 euro) to 6200 SEK (about $6200 USD or 6200 euro)
URL:https://magic-workshops.com/event/magisk-scenkonst-2022/
LOCATION:Fridhems Folkhögskola\, Rönnebergsvägen 10\, Svalöv\, 268 22\, Sweden
CATEGORIES:Workshop
ATTACH;FMTTYPE=image/jpeg:https://magic-workshops.com/wp-content/uploads/2022/02/international_magic_fridhem.jpg
ORGANIZER;CN="Fantasmagoria":MAILTO:peter@fantasmagoria.se
END:VEVENT
END:VCALENDAR